BEGIN:VCALENDAR
VERSION:2.0
PRODID:-//Plone.org//NONSGML plone.app.event//EN
X-WR-TIMEZONE:Europe/Berlin
BEGIN:VEVENT
SUMMARY:Santa Messa (Sabato)
DTSTART;TZID=Europe/Berlin;VALUE=DATE-TIME:20241130T173000
DTEND;TZID=Europe/Berlin;VALUE=DATE-TIME:20241130T183000
DTSTAMP;VALUE=DATE-TIME:20260424T051554Z
UID:3c91bb6636be4da4b4c00af17f6b8b22@www.mcli.ch
CATEGORIES:Adulti,Anziani,Confessioni,Famiglie,Santa Messa
CONTACT:044 246 76 46
CREATED;VALUE=DATE-TIME:20220131T125501Z
DESCRIPTION:ore 17.30
LAST-MODIFIED;VALUE=DATE-TIME:20250915T092341Z
LOCATION:MCLI Zurigo
URL:https://www.mcli.ch/donbosco/news-e-manifestazioni/manifestazioni/brun
 ch/2024-11-30
END:VEVENT
BEGIN:VTIMEZONE
TZID:Europe/Berlin
X-LIC-LOCATION:Europe/Berlin
BEGIN:STANDARD
DTSTART;VALUE=DATE-TIME:20241027T020000
TZNAME:CET
TZOFFSETFROM:+0200
TZOFFSETTO:+0100
END:STANDARD
END:VTIMEZONE
END:VCALENDAR
